BEGIN:VCALENDAR
VERSION:2.0
PRODID:-//62.84.245.232//NONSGML kigkonsult.se iCalcreator 2.20//
CALSCALE:GREGORIAN
METHOD:PUBLISH
X-WR-TIMEZONE:UTC
BEGIN:VEVENT
UID:event59@Theo Meijer Sport
DTSTAMP:20260422T062248Z
CATEGORIES:Algemeen
DESCRIPTION:Hemelvaartsdag - TMS geopend van 08.30 - 14.00 uur\nCategorie: 
 Algemeen\nLink: https://www.theomeijersport.nl/index.php?option=com_jem&vi
 ew=event&id=59:hemelvaartsdag-tms-geopend-van-08-30-14-00-uur\n
DTSTART;VALUE=DATE:20260514
DTEND;VALUE=DATE:20260515
SUMMARY:Hemelvaartsdag - TMS geopend van 08.30 - 14.00 uur
URL:https://www.theomeijersport.nl/index.php?option=com_jem&view=event&id=5
 9:hemelvaartsdag-tms-geopend-van-08-30-14-00-uur
END:VEVENT
END:VCALENDAR