BEGIN:VCALENDAR
VERSION:2.0
PRODID:-//62.84.245.232//NONSGML kigkonsult.se iCalcreator 2.20//
CALSCALE:GREGORIAN
METHOD:PUBLISH
X-WR-TIMEZONE:UTC
BEGIN:VEVENT
UID:event58@Theo Meijer Sport
DTSTAMP:20260422T061904Z
CATEGORIES:Algemeen
DESCRIPTION:Bevrijdingsdag - Gewone openingstijden\nCategorie: Algemeen\nLi
 nk: https://www.theomeijersport.nl/index.php?option=com_jem&view=event&id=
 58:bevrijdingsdag-gewone-openingstijden\n
DTSTART;VALUE=DATE:20260505
DTEND;VALUE=DATE:20260506
SUMMARY:Bevrijdingsdag - Gewone openingstijden
URL:https://www.theomeijersport.nl/index.php?option=com_jem&view=event&id=5
 8:bevrijdingsdag-gewone-openingstijden
END:VEVENT
END:VCALENDAR