BEGIN:VCALENDAR
VERSION:2.0
PRODID:-//62.84.245.232//NONSGML kigkonsult.se iCalcreator 2.20//
CALSCALE:GREGORIAN
METHOD:PUBLISH
X-WR-TIMEZONE:UTC
BEGIN:VEVENT
UID:event57@Theo Meijer Sport
DTSTAMP:20260422T050353Z
CATEGORIES:Algemeen
DESCRIPTION:Koningsdag - TMS gesloten\nCategorie: Algemeen\nLink: https://w
 ww.theomeijersport.nl/index.php?option=com_jem&view=event&id=57:koningsdag
 \n
DTSTART;VALUE=DATE:20260427
DTEND;VALUE=DATE:20260428
SUMMARY:Koningsdag - TMS gesloten
URL:https://www.theomeijersport.nl/index.php?option=com_jem&view=event&id=5
 7:koningsdag
END:VEVENT
END:VCALENDAR