BEGIN:VCALENDAR
VERSION:2.0
PRODID:-//62.84.245.232//NONSGML kigkonsult.se iCalcreator 2.20//
CALSCALE:GREGORIAN
METHOD:PUBLISH
X-WR-TIMEZONE:UTC
BEGIN:VEVENT
UID:event56@Theo Meijer Sport
DTSTAMP:20260422T045509Z
CATEGORIES:Algemeen
DESCRIPTION:Koningsavond - TMS sluit om 22.00 uur\nCategorie: Algemeen\nLin
 k: https://www.theomeijersport.nl/index.php?option=com_jem&view=event&id=5
 6:koningsavond\n
DTSTART;VALUE=DATE:20260426
DTEND;VALUE=DATE:20260427
SUMMARY:Koningsavond - TMS sluit om 22.00 uur
URL:https://www.theomeijersport.nl/index.php?option=com_jem&view=event&id=5
 6:koningsavond
END:VEVENT
END:VCALENDAR