BEGIN:VCALENDAR
VERSION:2.0
PRODID:-//62.84.245.232//NONSGML kigkonsult.se iCalcreator 2.20//
CALSCALE:GREGORIAN
METHOD:PUBLISH
X-WR-TIMEZONE:UTC
BEGIN:VEVENT
UID:event67@Theo Meijer Sport
DTSTAMP:20260424T140136Z
CATEGORIES:Jeugd
DESCRIPTION:Herfstvakantie - Aangepast jeugdlesrooster\nCategorie: Jeugd\nL
 ink: https://www.theomeijersport.nl/index.php?option=com_jem&view=event&id
 =67:herfstvakantie-aangepast-jeugdlesrooster\n
DTSTART;VALUE=DATE:20261017
DTEND;VALUE=DATE:20261026
SUMMARY:Herfstvakantie - Aangepast jeugdlesrooster
URL:https://www.theomeijersport.nl/index.php?option=com_jem&view=event&id=6
 7:herfstvakantie-aangepast-jeugdlesrooster
END:VEVENT
END:VCALENDAR