BEGIN:VCALENDAR
VERSION:2.0
PRODID:-//62.84.245.232//NONSGML kigkonsult.se iCalcreator 2.20//
CALSCALE:GREGORIAN
METHOD:PUBLISH
X-WR-TIMEZONE:UTC
BEGIN:VEVENT
UID:event63@Theo Meijer Sport
DTSTAMP:20260422T061526Z
CATEGORIES:Algemeen
DESCRIPTION:1e kerstdag - TMS gesloten\nCategorie: Algemeen\nLink: https://
 www.theomeijersport.nl/index.php?option=com_jem&view=event&id=63:1e-kerstd
 ag-tms-gesloten\n
DTSTART;VALUE=DATE:20261225
DTEND;VALUE=DATE:20261226
SUMMARY:1e kerstdag - TMS gesloten
URL:https://www.theomeijersport.nl/index.php?option=com_jem&view=event&id=6
 3:1e-kerstdag-tms-gesloten
END:VEVENT
BEGIN:VEVENT
UID:event60@Theo Meijer Sport
DTSTAMP:20260422T061526Z
CATEGORIES:Algemeen
DESCRIPTION:1e pinksterdag - TMS gesloten\nCategorie: Algemeen\nLink: https
 ://www.theomeijersport.nl/index.php?option=com_jem&view=event&id=60:1e-pin
 ksterdag-tms-gesloten\n
DTSTART;VALUE=DATE:20260524
DTEND;VALUE=DATE:20260525
SUMMARY:1e pinksterdag - TMS gesloten
URL:https://www.theomeijersport.nl/index.php?option=com_jem&view=event&id=6
 0:1e-pinksterdag-tms-gesloten
END:VEVENT
BEGIN:VEVENT
UID:event64@Theo Meijer Sport
DTSTAMP:20260422T061526Z
CATEGORIES:Algemeen
DESCRIPTION:2e kerstdag - TMS geopend van 08.30 - 14.00 uur.\nCategorie: Al
 gemeen\nLink: https://www.theomeijersport.nl/index.php?option=com_jem&view
 =event&id=64:2e-kerstdag-tms-geopend-van-08-30-14-00-uur\n
DTSTART;VALUE=DATE:20261226
DTEND;VALUE=DATE:20261227
SUMMARY:2e kerstdag - TMS geopend van 08.30 - 14.00 uur.
URL:https://www.theomeijersport.nl/index.php?option=com_jem&view=event&id=6
 4:2e-kerstdag-tms-geopend-van-08-30-14-00-uur
END:VEVENT
BEGIN:VEVENT
UID:event61@Theo Meijer Sport
DTSTAMP:20260422T061526Z
CATEGORIES:Algemeen
DESCRIPTION:2e pinksterdag - TMS geopend van 08.30 - 14.00 uur\nCategorie: 
 Algemeen\nLink: https://www.theomeijersport.nl/index.php?option=com_jem&vi
 ew=event&id=61:2e-pinksterdag-tms-geopend-van-08-30-14-00-uur\n
DTSTART;VALUE=DATE:20260525
DTEND;VALUE=DATE:20260526
SUMMARY:2e pinksterdag - TMS geopend van 08.30 - 14.00 uur
URL:https://www.theomeijersport.nl/index.php?option=com_jem&view=event&id=6
 1:2e-pinksterdag-tms-geopend-van-08-30-14-00-uur
END:VEVENT
BEGIN:VEVENT
UID:event58@Theo Meijer Sport
DTSTAMP:20260422T061526Z
CATEGORIES:Algemeen
DESCRIPTION:Bevrijdingsdag - Gewone openingstijden\nCategorie: Algemeen\nLi
 nk: https://www.theomeijersport.nl/index.php?option=com_jem&view=event&id=
 58:bevrijdingsdag-gewone-openingstijden\n
DTSTART;VALUE=DATE:20260505
DTEND;VALUE=DATE:20260506
SUMMARY:Bevrijdingsdag - Gewone openingstijden
URL:https://www.theomeijersport.nl/index.php?option=com_jem&view=event&id=5
 8:bevrijdingsdag-gewone-openingstijden
END:VEVENT
BEGIN:VEVENT
UID:event59@Theo Meijer Sport
DTSTAMP:20260422T061526Z
CATEGORIES:Algemeen
DESCRIPTION:Hemelvaartsdag - TMS geopend van 08.30 - 14.00 uur\nCategorie: 
 Algemeen\nLink: https://www.theomeijersport.nl/index.php?option=com_jem&vi
 ew=event&id=59:hemelvaartsdag-tms-geopend-van-08-30-14-00-uur\n
DTSTART;VALUE=DATE:20260514
DTEND;VALUE=DATE:20260515
SUMMARY:Hemelvaartsdag - TMS geopend van 08.30 - 14.00 uur
URL:https://www.theomeijersport.nl/index.php?option=com_jem&view=event&id=5
 9:hemelvaartsdag-tms-geopend-van-08-30-14-00-uur
END:VEVENT
BEGIN:VEVENT
UID:event62@Theo Meijer Sport
DTSTAMP:20260422T061526Z
CATEGORIES:Algemeen
DESCRIPTION:Kerstavond - TMS sluit om 17.00 uur\nCategorie: Algemeen\nLink:
  https://www.theomeijersport.nl/index.php?option=com_jem&view=event&id=62:
 kerstavond-tms-sluit-om-17-00-uur\n
DTSTART;VALUE=DATE:20261224
DTEND;VALUE=DATE:20261225
SUMMARY:Kerstavond - TMS sluit om 17.00 uur
URL:https://www.theomeijersport.nl/index.php?option=com_jem&view=event&id=6
 2:kerstavond-tms-sluit-om-17-00-uur
END:VEVENT
BEGIN:VEVENT
UID:event68@Theo Meijer Sport
DTSTAMP:20260422T061526Z
CATEGORIES:Algemeen
DESCRIPTION:Kerstvakantie - Aangepast lesrooster/openingstijden\nCategorie:
  Algemeen\nLink: https://www.theomeijersport.nl/index.php?option=com_jem&v
 iew=event&id=68:kerstvakantie-aangepast-lesrooster-openingstijden\n
DTSTART;VALUE=DATE:20261219
DTEND;VALUE=DATE:20270104
SUMMARY:Kerstvakantie - Aangepast lesrooster/openingstijden
URL:https://www.theomeijersport.nl/index.php?option=com_jem&view=event&id=6
 8:kerstvakantie-aangepast-lesrooster-openingstijden
END:VEVENT
BEGIN:VEVENT
UID:event56@Theo Meijer Sport
DTSTAMP:20260422T061526Z
CATEGORIES:Algemeen
DESCRIPTION:Koningsavond - TMS sluit om 22.00 uur\nCategorie: Algemeen\nLin
 k: https://www.theomeijersport.nl/index.php?option=com_jem&view=event&id=5
 6:koningsavond\n
DTSTART;VALUE=DATE:20260426
DTEND;VALUE=DATE:20260427
SUMMARY:Koningsavond - TMS sluit om 22.00 uur
URL:https://www.theomeijersport.nl/index.php?option=com_jem&view=event&id=5
 6:koningsavond
END:VEVENT
BEGIN:VEVENT
UID:event57@Theo Meijer Sport
DTSTAMP:20260422T061526Z
CATEGORIES:Algemeen
DESCRIPTION:Koningsdag - TMS gesloten\nCategorie: Algemeen\nLink: https://w
 ww.theomeijersport.nl/index.php?option=com_jem&view=event&id=57:koningsdag
 \n
DTSTART;VALUE=DATE:20260427
DTEND;VALUE=DATE:20260428
SUMMARY:Koningsdag - TMS gesloten
URL:https://www.theomeijersport.nl/index.php?option=com_jem&view=event&id=5
 7:koningsdag
END:VEVENT
BEGIN:VEVENT
UID:event65@Theo Meijer Sport
DTSTAMP:20260422T061526Z
CATEGORIES:Algemeen
DESCRIPTION:Oudejaarsdag - TMS gesloten vanaf 12.00 uur\nCategorie: Algemee
 n\nLink: https://www.theomeijersport.nl/index.php?option=com_jem&view=even
 t&id=65:oudejaarsdag-tms-gesloten-vanaf-12-00-uur\n
DTSTART;VALUE=DATE:20261231
DTEND;VALUE=DATE:20270101
SUMMARY:Oudejaarsdag - TMS gesloten vanaf 12.00 uur
URL:https://www.theomeijersport.nl/index.php?option=com_jem&view=event&id=6
 5:oudejaarsdag-tms-gesloten-vanaf-12-00-uur
END:VEVENT
BEGIN:VEVENT
UID:event66@Theo Meijer Sport
DTSTAMP:20260422T061526Z
CATEGORIES:Algemeen
DESCRIPTION:Zomervakantie - aangepast lesrooster\nCategorie: Algemeen\nLink
 : https://www.theomeijersport.nl/index.php?option=com_jem&view=event&id=66
 :zomervakantie-aangepast-lesrooster\n
DTSTART;VALUE=DATE:20260718
DTEND;VALUE=DATE:20260831
SUMMARY:Zomervakantie - aangepast lesrooster
URL:https://www.theomeijersport.nl/index.php?option=com_jem&view=event&id=6
 6:zomervakantie-aangepast-lesrooster
END:VEVENT
END:VCALENDAR